############################################################################## ############################################################################## ### ### Running command: ### ### chmod a+r RbowtieCuda -R && F:\biocbuild\bbs-3.22-bioc\R\bin\R.exe CMD build --keep-empty-dirs --no-resave-data RbowtieCuda ### ############################################################################## ############################################################################## * checking for file 'RbowtieCuda/DESCRIPTION' ... OK * preparing 'RbowtieCuda': * checking DESCRIPTION meta-information ... OK * cleaning src * installing the package to build vignettes ----------------------------------- * installing *source* package 'RbowtieCuda' ... ** this is package 'RbowtieCuda' version '0.99.0' ** using staged installation ** libs running 'src/Makefile.win' ... (cd "../build" && cmake -G "Visual Studio 17 2022" "../src/"nvbio && cmake --build . --parallel 4 --config Release) /bin/sh: line 1: cd: ../build: No such file or directory make: *** [Makefile.win:6: all] Error 1 ERROR: compilation failed for package 'RbowtieCuda' * removing 'F:/biocbuild/bbs-3.22-bioc/tmpdir/Rtmpa6vTbI/Rinst1f0c858152747/RbowtieCuda' ----------------------------------- ERROR: package installation failed