Package: Rbowtie2 Version: 2.15.0 Command: /home/biocbuild/R/R/bin/R CMD INSTALL Rbowtie2 StartedAt: 2025-07-10 21:22:40 -0000 (Thu, 10 Jul 2025) EndedAt: 2025-07-10 21:30:40 -0000 (Thu, 10 Jul 2025) EllapsedTime: 480.3 seconds RetCode: 0 Status: OK