Package: Rbowtie2 Version: 2.15.0 Command: /home/biocbuild/R/R/bin/R CMD check --install=check:Rbowtie2.install-out.txt --library=/home/biocbuild/R/R/site-library --no-vignettes --timings Rbowtie2_2.15.0.tar.gz StartedAt: 2025-07-11 11:26:08 -0000 (Fri, 11 Jul 2025) EndedAt: 2025-07-11 11:26:37 -0000 (Fri, 11 Jul 2025) EllapsedTime: 29.1 seconds RetCode: 0 Status: OK CheckDir: Rbowtie2.Rcheck Warnings: 0