Package: Rbowtie2 Version: 2.15.0 Command: /home/biocbuild/R/R/bin/R CMD build --keep-empty-dirs --no-resave-data Rbowtie2 StartedAt: 2025-07-11 03:14:34 -0000 (Fri, 11 Jul 2025) EndedAt: 2025-07-11 03:22:15 -0000 (Fri, 11 Jul 2025) EllapsedTime: 461.2 seconds RetCode: 0 Status: OK PackageFile: Rbowtie2_2.15.0.tar.gz PackageFileSize: 1.736 MiB