Package: Rbowtie2 Version: 2.15.0 Command: F:\biocbuild\bbs-3.22-bioc\R\bin\R.exe CMD check --no-multiarch --install=check:Rbowtie2.install-out.txt --library=F:\biocbuild\bbs-3.22-bioc\R\library --no-vignettes --timings Rbowtie2_2.15.0.tar.gz StartedAt: 2025-07-22 05:44:48 -0400 (Tue, 22 Jul 2025) EndedAt: 2025-07-22 05:45:56 -0400 (Tue, 22 Jul 2025) EllapsedTime: 68.5 seconds RetCode: 0 Status: WARNINGS CheckDir: Rbowtie2.Rcheck Warnings: 1