Package: Rbowtie2 Version: 2.15.0 Command: /Library/Frameworks/R.framework/Resources/bin/R CMD INSTALL Rbowtie2 StartedAt: 2025-07-04 15:11:03 -0400 (Fri, 04 Jul 2025) EndedAt: 2025-07-04 15:12:09 -0400 (Fri, 04 Jul 2025) EllapsedTime: 65.6 seconds RetCode: 0 Status: OK