Package: Rbowtie2 Version: 2.15.0 Command: /Library/Frameworks/R.framework/Resources/bin/R CMD check --install=check:Rbowtie2.install-out.txt --library=/Library/Frameworks/R.framework/Resources/library --no-vignettes --timings Rbowtie2_2.15.0.tar.gz StartedAt: 2025-07-04 20:54:23 -0400 (Fri, 04 Jul 2025) EndedAt: 2025-07-04 20:54:38 -0400 (Fri, 04 Jul 2025) EllapsedTime: 15.2 seconds RetCode: 0 Status: OK CheckDir: Rbowtie2.Rcheck Warnings: 0