Package: Rbowtie2 Version: 2.15.0 Command: /Library/Frameworks/R.framework/Resources/bin/R CMD build --keep-empty-dirs --no-resave-data Rbowtie2 StartedAt: 2025-07-03 17:18:40 -0400 (Thu, 03 Jul 2025) EndedAt: 2025-07-03 17:19:51 -0400 (Thu, 03 Jul 2025) EllapsedTime: 70.8 seconds RetCode: 0 Status: OK PackageFile: Rbowtie2_2.15.0.tar.gz PackageFileSize: 1.711 MiB