Package: Rbowtie Version: 1.49.0 Command: chmod a+r Rbowtie -R && F:\biocbuild\bbs-3.22-bioc\R\bin\R.exe CMD build --keep-empty-dirs --no-resave-data Rbowtie StartedAt: 2025-08-14 22:38:43 -0400 (Thu, 14 Aug 2025) EndedAt: 2025-08-14 22:41:01 -0400 (Thu, 14 Aug 2025) EllapsedTime: 138.9 seconds RetCode: 0 Status: OK PackageFile: Rbowtie_1.49.0.tar.gz PackageFileSize: 903.6 KiB