Package: Rbowtie Version: 1.49.0 Command: rm -rf Rbowtie.buildbin-libdir && mkdir Rbowtie.buildbin-libdir && F:\biocbuild\bbs-3.22-bioc\R\bin\R.exe CMD INSTALL --build --library=Rbowtie.buildbin-libdir Rbowtie_1.49.0.tar.gz StartedAt: 2025-08-15 11:03:55 -0400 (Fri, 15 Aug 2025) EndedAt: 2025-08-15 11:06:43 -0400 (Fri, 15 Aug 2025) EllapsedTime: 167.5 seconds RetCode: 0 Status: OK PackageFile: Rbowtie_1.49.0.zip PackageFileSize: 6.77 MiB