Package: Rbec Version: 1.17.0 Command: F:\biocbuild\bbs-3.22-bioc\R\bin\R.exe CMD check --no-multiarch --install=check:Rbec.install-out.txt --library=F:\biocbuild\bbs-3.22-bioc\R\library --no-vignettes --timings Rbec_1.17.0.tar.gz StartedAt: 2025-07-01 05:32:42 -0400 (Tue, 01 Jul 2025) EndedAt: 2025-07-01 05:38:09 -0400 (Tue, 01 Jul 2025) EllapsedTime: 327.1 seconds RetCode: 0 Status: OK CheckDir: Rbec.Rcheck Warnings: 0