Package: Rbec Version: 1.17.0 Command: /Library/Frameworks/R.framework/Resources/bin/R CMD INSTALL Rbec StartedAt: 2025-07-22 15:26:33 -0400 (Tue, 22 Jul 2025) EndedAt: 2025-07-22 15:26:36 -0400 (Tue, 22 Jul 2025) EllapsedTime: 3.0 seconds RetCode: 1 Status: ERROR