Package: Rbec Version: 1.17.0 Command: /Library/Frameworks/R.framework/Resources/bin/R CMD build --keep-empty-dirs --no-resave-data Rbec StartedAt: 2025-07-22 17:18:35 -0400 (Tue, 22 Jul 2025) EndedAt: 2025-07-22 17:18:38 -0400 (Tue, 22 Jul 2025) EllapsedTime: 3.0 seconds RetCode: 1 Status: ERROR PackageFile: None PackageFileSize: NA