Package: RbcBook1 Version: 1.77.0 Command: /Library/Frameworks/R.framework/Resources/bin/R CMD check --install=check:RbcBook1.install-out.txt --library=/Library/Frameworks/R.framework/Resources/library --no-vignettes --timings RbcBook1_1.77.0.tar.gz StartedAt: 2025-07-11 22:58:09 -0400 (Fri, 11 Jul 2025) EndedAt: 2025-07-11 22:58:45 -0400 (Fri, 11 Jul 2025) EllapsedTime: 36.6 seconds RetCode: 0 Status: WARNINGS CheckDir: RbcBook1.Rcheck Warnings: 1