Package: Rarr Version: 1.9.0 Command: /home/biocbuild/R/R/bin/R CMD build --keep-empty-dirs --no-resave-data Rarr StartedAt: 2025-07-08 01:49:05 -0000 (Tue, 08 Jul 2025) EndedAt: 2025-07-08 01:51:02 -0000 (Tue, 08 Jul 2025) EllapsedTime: 117.1 seconds RetCode: 0 Status: OK PackageFile: Rarr_1.9.0.tar.gz PackageFileSize: 1.144 MiB