Package: Rarr Version: 1.9.0 Command: rm -rf Rarr.buildbin-libdir && mkdir Rarr.buildbin-libdir && F:\biocbuild\bbs-3.22-bioc\R\bin\R.exe CMD INSTALL --build --library=Rarr.buildbin-libdir Rarr_1.9.0.tar.gz StartedAt: 2025-07-25 10:02:23 -0400 (Fri, 25 Jul 2025) EndedAt: 2025-07-25 10:04:31 -0400 (Fri, 25 Jul 2025) EllapsedTime: 128.0 seconds RetCode: 0 Status: OK PackageFile: Rarr_1.9.0.zip PackageFileSize: 1.582 MiB