Package: RankProd Version: 3.35.0 Command: /home/biocbuild/R/R/bin/R CMD build --keep-empty-dirs --no-resave-data RankProd StartedAt: 2025-07-11 03:13:35 -0000 (Fri, 11 Jul 2025) EndedAt: 2025-07-11 03:13:52 -0000 (Fri, 11 Jul 2025) EllapsedTime: 17.0 seconds RetCode: 0 Status: OK PackageFile: RankProd_3.35.0.tar.gz PackageFileSize: 768.6 KiB