Package: RadioGx Version: 2.13.0 Command: F:\biocbuild\bbs-3.22-bioc\R\bin\R.exe CMD check --no-multiarch --install=check:RadioGx.install-out.txt --library=F:\biocbuild\bbs-3.22-bioc\R\library --no-vignettes --timings RadioGx_2.13.0.tar.gz StartedAt: 2025-07-08 05:28:18 -0400 (Tue, 08 Jul 2025) EndedAt: 2025-07-08 05:33:33 -0400 (Tue, 08 Jul 2025) EllapsedTime: 315.4 seconds RetCode: 0 Status: OK CheckDir: RadioGx.Rcheck Warnings: 0