Package: RadioGx Version: 2.13.0 Command: chmod a+r RadioGx -R && F:\biocbuild\bbs-3.22-bioc\R\bin\R.exe CMD build --keep-empty-dirs --no-resave-data RadioGx StartedAt: 2025-07-07 21:24:13 -0400 (Mon, 07 Jul 2025) EndedAt: 2025-07-07 21:25:40 -0400 (Mon, 07 Jul 2025) EllapsedTime: 86.8 seconds RetCode: 0 Status: OK PackageFile: RadioGx_2.13.0.tar.gz PackageFileSize: 2.737 MiB