Package: RadioGx Version: 2.13.0 Command: /home/biocbuild/bbs-3.22-bioc/R/bin/R CMD INSTALL RadioGx StartedAt: 2025-07-07 15:21:53 -0400 (Mon, 07 Jul 2025) EndedAt: 2025-07-07 15:22:29 -0400 (Mon, 07 Jul 2025) EllapsedTime: 36.6 seconds RetCode: 0 Status: OK