Package: RadioGx Version: 2.13.0 Command: /home/biocbuild/bbs-3.22-bioc/R/bin/R CMD check --install=check:RadioGx.install-out.txt --library=/home/biocbuild/bbs-3.22-bioc/R/site-library --timings RadioGx_2.13.0.tar.gz StartedAt: 2025-07-08 01:31:56 -0400 (Tue, 08 Jul 2025) EndedAt: 2025-07-08 01:36:14 -0400 (Tue, 08 Jul 2025) EllapsedTime: 258.4 seconds RetCode: 0 Status: OK CheckDir: RadioGx.Rcheck Warnings: 0