Package: RadioGx Version: 2.13.0 Command: /home/biocbuild/bbs-3.22-bioc/R/bin/R CMD build --keep-empty-dirs --no-resave-data --md5 RadioGx StartedAt: 2025-07-07 18:42:52 -0400 (Mon, 07 Jul 2025) EndedAt: 2025-07-07 18:43:45 -0400 (Mon, 07 Jul 2025) EllapsedTime: 53.1 seconds RetCode: 0 Status: OK PackageFile: RadioGx_2.13.0.tar.gz PackageFileSize: 2.767 MiB