Package: RadioGx Version: 2.13.0 Command: /Library/Frameworks/R.framework/Resources/bin/R CMD check --install=check:RadioGx.install-out.txt --library=/Library/Frameworks/R.framework/Resources/library --no-vignettes --timings RadioGx_2.13.0.tar.gz StartedAt: 2025-07-07 20:51:21 -0400 (Mon, 07 Jul 2025) EndedAt: 2025-07-07 20:52:59 -0400 (Mon, 07 Jul 2025) EllapsedTime: 98.2 seconds RetCode: 0 Status: OK CheckDir: RadioGx.Rcheck Warnings: 0