Package: RadioGx Version: 2.13.0 Command: /Library/Frameworks/R.framework/Resources/bin/R CMD build --keep-empty-dirs --no-resave-data RadioGx StartedAt: 2025-07-07 17:15:34 -0400 (Mon, 07 Jul 2025) EndedAt: 2025-07-07 17:15:57 -0400 (Mon, 07 Jul 2025) EllapsedTime: 22.3 seconds RetCode: 0 Status: OK PackageFile: RadioGx_2.13.0.tar.gz PackageFileSize: 2.778 MiB