Package: RadioGx Version: 2.13.0 Maintainer: Benjamin Haibe-Kains MaintainerEmail: benjamin.haibe.kains at utoronto.ca git_url: https://git.bioconductor.org/packages/RadioGx git_branch: devel git_last_commit: 48d377c git_last_commit_date: 2025-04-15 12:03:29 -0400 (Tue, 15 Apr 2025)