Package: RVS Version: 1.31.0 Command: F:\biocbuild\bbs-3.22-bioc\R\bin\R.exe CMD check --no-multiarch --install=check:RVS.install-out.txt --library=F:\biocbuild\bbs-3.22-bioc\R\library --no-vignettes --timings RVS_1.31.0.tar.gz StartedAt: 2025-08-15 07:22:57 -0400 (Fri, 15 Aug 2025) EndedAt: 2025-08-15 07:27:31 -0400 (Fri, 15 Aug 2025) EllapsedTime: 274.1 seconds RetCode: 0 Status: WARNINGS CheckDir: RVS.Rcheck Warnings: 1