Package: RVS Version: 1.31.0 Command: chmod a+r RVS -R && F:\biocbuild\bbs-3.22-bioc\R\bin\R.exe CMD build --keep-empty-dirs --no-resave-data RVS StartedAt: 2025-08-14 22:57:02 -0400 (Thu, 14 Aug 2025) EndedAt: 2025-08-14 22:59:50 -0400 (Thu, 14 Aug 2025) EllapsedTime: 167.9 seconds RetCode: 0 Status: OK PackageFile: RVS_1.31.0.tar.gz PackageFileSize: 371 KiB