Package: RVS Version: 1.31.0 Command: /Library/Frameworks/R.framework/Resources/bin/R CMD INSTALL RVS StartedAt: 2025-07-22 15:13:27 -0400 (Tue, 22 Jul 2025) EndedAt: 2025-07-22 15:13:43 -0400 (Tue, 22 Jul 2025) EllapsedTime: 16.8 seconds RetCode: 0 Status: OK