Package: RVS Version: 1.31.0 Command: /Library/Frameworks/R.framework/Resources/bin/R CMD check --install=check:RVS.install-out.txt --library=/Library/Frameworks/R.framework/Resources/library --no-vignettes --timings RVS_1.31.0.tar.gz StartedAt: 2025-07-22 23:25:36 -0400 (Tue, 22 Jul 2025) EndedAt: 2025-07-22 23:29:49 -0400 (Tue, 22 Jul 2025) EllapsedTime: 252.7 seconds RetCode: 0 Status: WARNINGS CheckDir: RVS.Rcheck Warnings: 1