Package: RUVcorr Version: 1.41.0 Command: F:\biocbuild\bbs-3.22-bioc\R\bin\R.exe CMD check --no-multiarch --install=check:RUVcorr.install-out.txt --library=F:\biocbuild\bbs-3.22-bioc\R\library --no-vignettes --timings RUVcorr_1.41.0.tar.gz StartedAt: 2025-08-15 07:21:52 -0400 (Fri, 15 Aug 2025) EndedAt: 2025-08-15 07:22:56 -0400 (Fri, 15 Aug 2025) EllapsedTime: 63.9 seconds RetCode: 0 Status: WARNINGS CheckDir: RUVcorr.Rcheck Warnings: 1