Package: RUVcorr Version: 1.41.0 Command: chmod a+r RUVcorr -R && F:\biocbuild\bbs-3.22-bioc\R\bin\R.exe CMD build --keep-empty-dirs --no-resave-data RUVcorr StartedAt: 2025-08-14 22:56:50 -0400 (Thu, 14 Aug 2025) EndedAt: 2025-08-14 22:58:07 -0400 (Thu, 14 Aug 2025) EllapsedTime: 76.6 seconds RetCode: 0 Status: OK PackageFile: RUVcorr_1.41.0.tar.gz PackageFileSize: 150.1 KiB