Package: RUVcorr Version: 1.41.0 Command: rm -rf RUVcorr.buildbin-libdir && mkdir RUVcorr.buildbin-libdir && F:\biocbuild\bbs-3.22-bioc\R\bin\R.exe CMD INSTALL --build --library=RUVcorr.buildbin-libdir RUVcorr_1.41.0.tar.gz StartedAt: 2025-08-15 11:12:10 -0400 (Fri, 15 Aug 2025) EndedAt: 2025-08-15 11:12:35 -0400 (Fri, 15 Aug 2025) EllapsedTime: 25.4 seconds RetCode: 0 Status: OK PackageFile: RUVcorr_1.41.0.zip PackageFileSize: 277.2 KiB