Package: RUVcorr Version: 1.41.0 Command: /Library/Frameworks/R.framework/Resources/bin/R CMD INSTALL RUVcorr StartedAt: 2025-10-05 15:07:06 -0400 (Sun, 05 Oct 2025) EndedAt: 2025-10-05 15:07:08 -0400 (Sun, 05 Oct 2025) EllapsedTime: 2.2 seconds RetCode: 0 Status: OK