Package: RUCova Version: 1.1.0 Command: chmod a+r RUCova -R && F:\biocbuild\bbs-3.22-bioc\R\bin\R.exe CMD build --keep-empty-dirs --no-resave-data RUCova StartedAt: 2025-08-14 22:56:42 -0400 (Thu, 14 Aug 2025) EndedAt: 2025-08-14 22:58:13 -0400 (Thu, 14 Aug 2025) EllapsedTime: 90.5 seconds RetCode: 0 Status: OK PackageFile: RUCova_1.1.0.tar.gz PackageFileSize: 4.353 MiB