Package: RUCova Version: 1.1.0 Command: rm -rf RUCova.buildbin-libdir && mkdir RUCova.buildbin-libdir && F:\biocbuild\bbs-3.22-bioc\R\bin\R.exe CMD INSTALL --build --library=RUCova.buildbin-libdir RUCova_1.1.0.tar.gz StartedAt: 2025-08-15 11:12:07 -0400 (Fri, 15 Aug 2025) EndedAt: 2025-08-15 11:12:42 -0400 (Fri, 15 Aug 2025) EllapsedTime: 35.6 seconds RetCode: 0 Status: OK PackageFile: RUCova_1.1.0.zip PackageFileSize: 4.359 MiB