Package: RTopper Version: 1.55.0 Command: /home/biocbuild/R/R/bin/R CMD check --install=check:RTopper.install-out.txt --library=/home/biocbuild/R/R/site-library --no-vignettes --timings RTopper_1.55.0.tar.gz StartedAt: 2025-07-22 11:12:36 -0000 (Tue, 22 Jul 2025) EndedAt: 2025-07-22 11:13:56 -0000 (Tue, 22 Jul 2025) EllapsedTime: 80.1 seconds RetCode: 0 Status: OK CheckDir: RTopper.Rcheck Warnings: 0