Package: RTopper Version: 1.55.0 Command: F:\biocbuild\bbs-3.22-bioc\R\bin\R.exe CMD check --no-multiarch --install=check:RTopper.install-out.txt --library=F:\biocbuild\bbs-3.22-bioc\R\library --no-vignettes --timings RTopper_1.55.0.tar.gz StartedAt: 2025-07-23 06:12:32 -0400 (Wed, 23 Jul 2025) EndedAt: 2025-07-23 06:13:57 -0400 (Wed, 23 Jul 2025) EllapsedTime: 85.3 seconds RetCode: 0 Status: OK CheckDir: RTopper.Rcheck Warnings: 0