Package: RTopper Version: 1.55.0 Command: chmod a+r RTopper -R && F:\biocbuild\bbs-3.22-bioc\R\bin\R.exe CMD build --keep-empty-dirs --no-resave-data RTopper StartedAt: 2025-07-22 21:48:18 -0400 (Tue, 22 Jul 2025) EndedAt: 2025-07-22 21:49:54 -0400 (Tue, 22 Jul 2025) EllapsedTime: 96.1 seconds RetCode: 0 Status: OK PackageFile: RTopper_1.55.0.tar.gz PackageFileSize: 1.206 MiB