Package: RTopper Version: 1.55.0 Command: rm -rf RTopper.buildbin-libdir && mkdir RTopper.buildbin-libdir && F:\biocbuild\bbs-3.22-bioc\R\bin\R.exe CMD INSTALL --build --library=RTopper.buildbin-libdir RTopper_1.55.0.tar.gz StartedAt: 2025-07-23 10:01:47 -0400 (Wed, 23 Jul 2025) EndedAt: 2025-07-23 10:02:08 -0400 (Wed, 23 Jul 2025) EllapsedTime: 20.5 seconds RetCode: 0 Status: OK PackageFile: RTopper_1.55.0.zip PackageFileSize: 1.236 MiB