Package: RTopper Version: 1.55.0 Command: /Library/Frameworks/R.framework/Resources/bin/R CMD check --install=check:RTopper.install-out.txt --library=/Library/Frameworks/R.framework/Resources/library --no-vignettes --timings RTopper_1.55.0.tar.gz StartedAt: 2025-07-07 23:14:02 -0400 (Mon, 07 Jul 2025) EndedAt: 2025-07-07 23:15:24 -0400 (Mon, 07 Jul 2025) EllapsedTime: 81.1 seconds RetCode: 0 Status: OK CheckDir: RTopper.Rcheck Warnings: 0