Package: RTopper Version: 1.55.0 Command: /Library/Frameworks/R.framework/Resources/bin/R CMD build --keep-empty-dirs --no-resave-data RTopper StartedAt: 2025-07-07 18:18:01 -0400 (Mon, 07 Jul 2025) EndedAt: 2025-07-07 18:19:12 -0400 (Mon, 07 Jul 2025) EllapsedTime: 70.8 seconds RetCode: 0 Status: OK PackageFile: RTopper_1.55.0.tar.gz PackageFileSize: 1.347 MiB