Package: RTopper Version: 1.55.0 Command: /Library/Frameworks/R.framework/Resources/bin/R CMD build --keep-empty-dirs --no-resave-data RTopper StartedAt: 2025-07-04 17:24:52 -0400 (Fri, 04 Jul 2025) EndedAt: 2025-07-04 17:25:22 -0400 (Fri, 04 Jul 2025) EllapsedTime: 30.3 seconds RetCode: 0 Status: OK PackageFile: RTopper_1.55.0.tar.gz PackageFileSize: 1.349 MiB