Package: RTNsurvival Version: 1.33.0 Command: /home/biocbuild/R/R/bin/R CMD INSTALL RTNsurvival StartedAt: 2025-07-17 20:34:03 -0000 (Thu, 17 Jul 2025) EndedAt: 2025-07-17 20:34:45 -0000 (Thu, 17 Jul 2025) EllapsedTime: 42.0 seconds RetCode: 0 Status: OK