Package: RTNsurvival Version: 1.33.0 Command: /home/biocbuild/R/R/bin/R CMD build --keep-empty-dirs --no-resave-data RTNsurvival StartedAt: 2025-07-18 02:41:11 -0000 (Fri, 18 Jul 2025) EndedAt: 2025-07-18 02:42:22 -0000 (Fri, 18 Jul 2025) EllapsedTime: 71.1 seconds RetCode: 0 Status: OK PackageFile: RTNsurvival_1.33.0.tar.gz PackageFileSize: 757.6 KiB