Package: RTNsurvival Version: 1.33.0 Command: chmod a+r RTNsurvival -R && F:\biocbuild\bbs-3.22-bioc\R\bin\R.exe CMD build --keep-empty-dirs --no-resave-data RTNsurvival StartedAt: 2025-07-20 21:45:41 -0400 (Sun, 20 Jul 2025) EndedAt: 2025-07-20 21:47:17 -0400 (Sun, 20 Jul 2025) EllapsedTime: 95.8 seconds RetCode: 0 Status: OK PackageFile: RTNsurvival_1.33.0.tar.gz PackageFileSize: 733 KiB