Package: RTNsurvival Version: 1.33.0 Command: /home/biocbuild/bbs-3.22-bioc/R/bin/R CMD INSTALL RTNsurvival StartedAt: 2025-07-07 15:21:14 -0400 (Mon, 07 Jul 2025) EndedAt: 2025-07-07 15:21:45 -0400 (Mon, 07 Jul 2025) EllapsedTime: 31.0 seconds RetCode: 0 Status: OK