Package: RTNsurvival Version: 1.33.0 Command: /home/biocbuild/bbs-3.22-bioc/R/bin/R CMD check --install=check:RTNsurvival.install-out.txt --library=/home/biocbuild/bbs-3.22-bioc/R/site-library --timings RTNsurvival_1.33.0.tar.gz StartedAt: 2025-07-08 02:00:13 -0400 (Tue, 08 Jul 2025) EndedAt: 2025-07-08 02:04:09 -0400 (Tue, 08 Jul 2025) EllapsedTime: 236.2 seconds RetCode: 0 Status: OK CheckDir: RTNsurvival.Rcheck Warnings: 0