Package: RTNsurvival Version: 1.33.0 Command: /home/biocbuild/bbs-3.22-bioc/R/bin/R CMD build --keep-empty-dirs --no-resave-data --md5 RTNsurvival StartedAt: 2025-07-07 18:56:25 -0400 (Mon, 07 Jul 2025) EndedAt: 2025-07-07 18:57:11 -0400 (Mon, 07 Jul 2025) EllapsedTime: 46.0 seconds RetCode: 0 Status: OK PackageFile: RTNsurvival_1.33.0.tar.gz PackageFileSize: 734 KiB