Package: RTNsurvival Version: 1.33.0 Command: /Library/Frameworks/R.framework/Resources/bin/R CMD INSTALL RTNsurvival StartedAt: 2025-07-07 15:22:41 -0400 (Mon, 07 Jul 2025) EndedAt: 2025-07-07 15:23:23 -0400 (Mon, 07 Jul 2025) EllapsedTime: 42.1 seconds RetCode: 0 Status: OK