Package: RTNsurvival Version: 1.33.0 Command: rm -rf RTNsurvival.buildbin-libdir && mkdir RTNsurvival.buildbin-libdir && /Users/biocbuild/BBS/utils/build-universal.sh RTNsurvival_1.33.0.tar.gz /Library/Frameworks/R.framework/Resources/bin/R RTNsurvival.buildbin-libdir StartedAt: 2025-07-08 01:12:57 -0400 (Tue, 08 Jul 2025) EndedAt: 2025-07-08 01:13:43 -0400 (Tue, 08 Jul 2025) EllapsedTime: 46.1 seconds RetCode: 0 Status: OK PackageFile: RTNsurvival_1.33.0.tgz PackageFileSize: 951.5 KiB